BEGIN:VCALENDAR
VERSION:2.0
PRODID:-//Zing Credit Union - ECPv6.15.20//NONSGML v1.0//EN
CALSCALE:GREGORIAN
METHOD:PUBLISH
X-ORIGINAL-URL:https://myzing.com
X-WR-CALDESC:Events for Zing Credit Union
REFRESH-INTERVAL;VALUE=DURATION:PT1H
X-Robots-Tag:noindex
X-PUBLISHED-TTL:PT1H
BEGIN:VTIMEZONE
TZID:America/Denver
BEGIN:DAYLIGHT
TZOFFSETFROM:-0700
TZOFFSETTO:-0600
TZNAME:MDT
DTSTART:20240310T090000
END:DAYLIGHT
BEGIN:STANDARD
TZOFFSETFROM:-0600
TZOFFSETTO:-0700
TZNAME:MST
DTSTART:20241103T080000
END:STANDARD
BEGIN:DAYLIGHT
TZOFFSETFROM:-0700
TZOFFSETTO:-0600
TZNAME:MDT
DTSTART:20250309T090000
END:DAYLIGHT
BEGIN:STANDARD
TZOFFSETFROM:-0600
TZOFFSETTO:-0700
TZNAME:MST
DTSTART:20251102T080000
END:STANDARD
BEGIN:DAYLIGHT
TZOFFSETFROM:-0700
TZOFFSETTO:-0600
TZNAME:MDT
DTSTART:20260308T090000
END:DAYLIGHT
BEGIN:STANDARD
TZOFFSETFROM:-0600
TZOFFSETTO:-0700
TZNAME:MST
DTSTART:20261101T080000
END:STANDARD
END:VTIMEZONE
BEGIN:VEVENT
DTSTART;TZID=America/Denver:20250212T120000
DTEND;TZID=America/Denver:20250212T130000
DTSTAMP:20260422T162958
CREATED:20250207T183205Z
LAST-MODIFIED:20250207T183234Z
UID:6774-1739361600-1739365200@myzing.com
SUMMARY:3 Things You Can DO This Week to Get Your Financial House in Order
DESCRIPTION:Join Dr. Darla Bishop\, author of How to Afford Everything\, for this webinar designed to help you gain clarity\, control\, and confidence with your finances. You’ll walk away with three simple\, actionable steps you can implement immediately to start organizing your financial life – without sacrificing the things that make life meaningful. Whether you’re just starting out or looking to refine your money management\, this webinar will provide valuable tools to get you on track this week.
URL:https://myzing.com/event/3-things-you-can-do-this-week-to-get-your-financial-house-in-order/
LOCATION:CO
END:VEVENT
END:VCALENDAR