BEGIN:VCALENDAR
VERSION:2.0
PRODID:-//Zing Credit Union - ECPv6.15.20//NONSGML v1.0//EN
CALSCALE:GREGORIAN
METHOD:PUBLISH
X-ORIGINAL-URL:https://myzing.com
X-WR-CALDESC:Events for Zing Credit Union
REFRESH-INTERVAL;VALUE=DURATION:PT1H
X-Robots-Tag:noindex
X-PUBLISHED-TTL:PT1H
BEGIN:VTIMEZONE
TZID:America/Denver
BEGIN:DAYLIGHT
TZOFFSETFROM:-0700
TZOFFSETTO:-0600
TZNAME:MDT
DTSTART:20240310T090000
END:DAYLIGHT
BEGIN:STANDARD
TZOFFSETFROM:-0600
TZOFFSETTO:-0700
TZNAME:MST
DTSTART:20241103T080000
END:STANDARD
BEGIN:DAYLIGHT
TZOFFSETFROM:-0700
TZOFFSETTO:-0600
TZNAME:MDT
DTSTART:20250309T090000
END:DAYLIGHT
BEGIN:STANDARD
TZOFFSETFROM:-0600
TZOFFSETTO:-0700
TZNAME:MST
DTSTART:20251102T080000
END:STANDARD
BEGIN:DAYLIGHT
TZOFFSETFROM:-0700
TZOFFSETTO:-0600
TZNAME:MDT
DTSTART:20260308T090000
END:DAYLIGHT
BEGIN:STANDARD
TZOFFSETFROM:-0600
TZOFFSETTO:-0700
TZNAME:MST
DTSTART:20261101T080000
END:STANDARD
END:VTIMEZONE
BEGIN:VEVENT
DTSTART;TZID=America/Denver:20250319T120000
DTEND;TZID=America/Denver:20250319T123000
DTSTAMP:20260422T145823
CREATED:20250207T183402Z
LAST-MODIFIED:20250207T183449Z
UID:6776-1742385600-1742387400@myzing.com
SUMMARY:Making the Most of your Tax Refund
DESCRIPTION:Are you one of the many Americans who receive a sizable tax refund each year but aren’t quite sure how to make the best use of it? If you find yourself wondering where last year’s refund went and want to make different choices this time around\, this webinar is for you! \nJoin us to dive into a variety of strategies for making your tax refund work harder for you. Whether you’re looking to build up your savings\, pay off debt\, or invest in your future\, you’ll leave with actionable tips and ideas to help you make decisions that benefit you both now and in the long run. \n 
URL:https://myzing.com/event/making-the-most-of-your-tax-refund/
LOCATION:CO
END:VEVENT
END:VCALENDAR