BEGIN:VCALENDAR
VERSION:2.0
PRODID:-//Zing Credit Union - ECPv6.15.20//NONSGML v1.0//EN
CALSCALE:GREGORIAN
METHOD:PUBLISH
X-WR-CALNAME:Zing Credit Union
X-ORIGINAL-URL:https://myzing.com
X-WR-CALDESC:Events for Zing Credit Union
REFRESH-INTERVAL;VALUE=DURATION:PT1H
X-Robots-Tag:noindex
X-PUBLISHED-TTL:PT1H
BEGIN:VTIMEZONE
TZID:America/Denver
BEGIN:DAYLIGHT
TZOFFSETFROM:-0700
TZOFFSETTO:-0600
TZNAME:MDT
DTSTART:20240310T090000
END:DAYLIGHT
BEGIN:STANDARD
TZOFFSETFROM:-0600
TZOFFSETTO:-0700
TZNAME:MST
DTSTART:20241103T080000
END:STANDARD
BEGIN:DAYLIGHT
TZOFFSETFROM:-0700
TZOFFSETTO:-0600
TZNAME:MDT
DTSTART:20250309T090000
END:DAYLIGHT
BEGIN:STANDARD
TZOFFSETFROM:-0600
TZOFFSETTO:-0700
TZNAME:MST
DTSTART:20251102T080000
END:STANDARD
BEGIN:DAYLIGHT
TZOFFSETFROM:-0700
TZOFFSETTO:-0600
TZNAME:MDT
DTSTART:20260308T090000
END:DAYLIGHT
BEGIN:STANDARD
TZOFFSETFROM:-0600
TZOFFSETTO:-0700
TZNAME:MST
DTSTART:20261101T080000
END:STANDARD
END:VTIMEZONE
BEGIN:VEVENT
DTSTART;TZID=America/Denver:20250507T100000
DTEND;TZID=America/Denver:20250507T110000
DTSTAMP:20260422T111906
CREATED:20250331T211500Z
LAST-MODIFIED:20250501T145709Z
UID:6991-1746612000-1746615600@myzing.com
SUMMARY:The Nuts & Bolts of Starting a Business in the City & County of Denver
DESCRIPTION:Join the City & County of Denver for an open dialogue including Q&A as you prepare for business ownership! In this one-hour online workshop\, our business development team will walk you through the basic regulatory requirements in addition to reviewing local resources available to you. \nWe also offer FREE 1:1 business advisory sessions. Schedule yours at bit.ly/DEDOBizAdvisorySession or by calling 720-913-1521. \nRegister for the online workshop and let’s work together in making your dream a reality!
URL:https://myzing.com/event/the-nuts-bolts-of-starting-a-business-in-the-city-county-of-denver-copy/
LOCATION:CO
END:VEVENT
END:VCALENDAR