BEGIN:VCALENDAR
VERSION:2.0
PRODID:-//Zing Credit Union - ECPv6.15.20//NONSGML v1.0//EN
CALSCALE:GREGORIAN
METHOD:PUBLISH
X-WR-CALNAME:Zing Credit Union
X-ORIGINAL-URL:https://myzing.com
X-WR-CALDESC:Events for Zing Credit Union
REFRESH-INTERVAL;VALUE=DURATION:PT1H
X-Robots-Tag:noindex
X-PUBLISHED-TTL:PT1H
BEGIN:VTIMEZONE
TZID:America/Denver
BEGIN:DAYLIGHT
TZOFFSETFROM:-0700
TZOFFSETTO:-0600
TZNAME:MDT
DTSTART:20240310T090000
END:DAYLIGHT
BEGIN:STANDARD
TZOFFSETFROM:-0600
TZOFFSETTO:-0700
TZNAME:MST
DTSTART:20241103T080000
END:STANDARD
BEGIN:DAYLIGHT
TZOFFSETFROM:-0700
TZOFFSETTO:-0600
TZNAME:MDT
DTSTART:20250309T090000
END:DAYLIGHT
BEGIN:STANDARD
TZOFFSETFROM:-0600
TZOFFSETTO:-0700
TZNAME:MST
DTSTART:20251102T080000
END:STANDARD
BEGIN:DAYLIGHT
TZOFFSETFROM:-0700
TZOFFSETTO:-0600
TZNAME:MDT
DTSTART:20260308T090000
END:DAYLIGHT
BEGIN:STANDARD
TZOFFSETFROM:-0600
TZOFFSETTO:-0700
TZNAME:MST
DTSTART:20261101T080000
END:STANDARD
END:VTIMEZONE
BEGIN:VEVENT
DTSTART;TZID=America/Denver:20250611T110000
DTEND;TZID=America/Denver:20250611T120000
DTSTAMP:20260422T091405
CREATED:20250522T155437Z
LAST-MODIFIED:20250522T155437Z
UID:7193-1749639600-1749643200@myzing.com
SUMMARY:Emotionally Healthy Spending
DESCRIPTION:This webinar will go through the basics of emotionally healthy spending. Whether it’s learning to set boundaries with loved ones around money\, getting a handle on impulse spending\, or stressing less around money\, you are not alone! Join GreenPath to discuss strategies to reduce stress around money and improve financial wellness. \nWhat You Will Learn\n\nStrategies to reduce financial stress\nTips for navigating difficult conversations around money\nWays to improve your relationship with money\n\nWho Should Attend?\n\nAnyone who anticipates having difficult conversations around money\nAnyone looking to reduce stress around money\nAnyone wanting a happier relationship with their finances
URL:https://myzing.com/event/emotionally-healthy-spending/
LOCATION:CO
END:VEVENT
END:VCALENDAR