BEGIN:VCALENDAR
VERSION:2.0
PRODID:-//Zing Credit Union - ECPv6.15.20//NONSGML v1.0//EN
CALSCALE:GREGORIAN
METHOD:PUBLISH
X-WR-CALNAME:Zing Credit Union
X-ORIGINAL-URL:https://myzing.com
X-WR-CALDESC:Events for Zing Credit Union
REFRESH-INTERVAL;VALUE=DURATION:PT1H
X-Robots-Tag:noindex
X-PUBLISHED-TTL:PT1H
BEGIN:VTIMEZONE
TZID:America/Denver
BEGIN:DAYLIGHT
TZOFFSETFROM:-0700
TZOFFSETTO:-0600
TZNAME:MDT
DTSTART:20240310T090000
END:DAYLIGHT
BEGIN:STANDARD
TZOFFSETFROM:-0600
TZOFFSETTO:-0700
TZNAME:MST
DTSTART:20241103T080000
END:STANDARD
BEGIN:DAYLIGHT
TZOFFSETFROM:-0700
TZOFFSETTO:-0600
TZNAME:MDT
DTSTART:20250309T090000
END:DAYLIGHT
BEGIN:STANDARD
TZOFFSETFROM:-0600
TZOFFSETTO:-0700
TZNAME:MST
DTSTART:20251102T080000
END:STANDARD
BEGIN:DAYLIGHT
TZOFFSETFROM:-0700
TZOFFSETTO:-0600
TZNAME:MDT
DTSTART:20260308T090000
END:DAYLIGHT
BEGIN:STANDARD
TZOFFSETFROM:-0600
TZOFFSETTO:-0700
TZNAME:MST
DTSTART:20261101T080000
END:STANDARD
END:VTIMEZONE
BEGIN:VEVENT
DTSTART;TZID=America/Denver:20250821T083000
DTEND;TZID=America/Denver:20250821T163000
DTSTAMP:20260422T061319
CREATED:20250729T200843Z
LAST-MODIFIED:20250729T200843Z
UID:7437-1755765000-1755793800@myzing.com
SUMMARY:Poder Latino: Impulsando Negocios con Visión
DESCRIPTION:Evento dinámico para empoderar a emprendedores y dueños de negocios latinos mediante talleres\, paneles\, informativos y conferencias magistrales con expertos en negocios. \n¡Aprenda\, conectese y haga crecer su negocio! \nNo pierda esta oportunidad de ampliar sus horizontes\, obtener nuevas perspectivas y mejorar su negocio.
URL:https://myzing.com/event/poder-latino-impulsando-negocios-con-vision/
LOCATION:CO
END:VEVENT
END:VCALENDAR