BEGIN:VCALENDAR
VERSION:2.0
PRODID:-//Zing Credit Union - ECPv6.15.20//NONSGML v1.0//EN
CALSCALE:GREGORIAN
METHOD:PUBLISH
X-ORIGINAL-URL:https://myzing.com
X-WR-CALDESC:Events for Zing Credit Union
REFRESH-INTERVAL;VALUE=DURATION:PT1H
X-Robots-Tag:noindex
X-PUBLISHED-TTL:PT1H
BEGIN:VTIMEZONE
TZID:America/Denver
BEGIN:DAYLIGHT
TZOFFSETFROM:-0700
TZOFFSETTO:-0600
TZNAME:MDT
DTSTART:20250309T090000
END:DAYLIGHT
BEGIN:STANDARD
TZOFFSETFROM:-0600
TZOFFSETTO:-0700
TZNAME:MST
DTSTART:20251102T080000
END:STANDARD
BEGIN:DAYLIGHT
TZOFFSETFROM:-0700
TZOFFSETTO:-0600
TZNAME:MDT
DTSTART:20260308T090000
END:DAYLIGHT
BEGIN:STANDARD
TZOFFSETFROM:-0600
TZOFFSETTO:-0700
TZNAME:MST
DTSTART:20261101T080000
END:STANDARD
BEGIN:DAYLIGHT
TZOFFSETFROM:-0700
TZOFFSETTO:-0600
TZNAME:MDT
DTSTART:20270314T090000
END:DAYLIGHT
BEGIN:STANDARD
TZOFFSETFROM:-0600
TZOFFSETTO:-0700
TZNAME:MST
DTSTART:20271107T080000
END:STANDARD
END:VTIMEZONE
BEGIN:VEVENT
DTSTART;TZID=America/Denver:20260226T180000
DTEND;TZID=America/Denver:20260226T193000
DTSTAMP:20260419T223855
CREATED:20260112T211252Z
LAST-MODIFIED:20260113T212656Z
UID:8426-1772128800-1772134200@myzing.com
SUMMARY:Zing Credit Union's Annual Meeting
DESCRIPTION:As a member of Zing Credit Union\, you’re invited to our Annual Meeting on Thursday\, February 26. This free event offers key updates from our Board of Directors and senior management\, giving you a closer look at what’s happening at Zing Credit Union. \nLearn about our progress\, future plans\, and how we’re working to serve you better. Join us to stay informed and engaged in your credit union’s success! \nPlease RSVP by Monday\, February 23rd.
URL:https://myzing.com/event/zing-credit-unions-annual-meeting/
LOCATION:Zing Credit Union – Andrews\, 15460 E Andrews Dr\, Denver\, 80239
END:VEVENT
END:VCALENDAR