BEGIN:VCALENDAR
VERSION:2.0
PRODID:-//Zing Credit Union - ECPv6.15.20//NONSGML v1.0//EN
CALSCALE:GREGORIAN
METHOD:PUBLISH
X-ORIGINAL-URL:https://myzing.com
X-WR-CALDESC:Events for Zing Credit Union
REFRESH-INTERVAL;VALUE=DURATION:PT1H
X-Robots-Tag:noindex
X-PUBLISHED-TTL:PT1H
BEGIN:VTIMEZONE
TZID:America/Denver
BEGIN:DAYLIGHT
TZOFFSETFROM:-0700
TZOFFSETTO:-0600
TZNAME:MDT
DTSTART:20250309T090000
END:DAYLIGHT
BEGIN:STANDARD
TZOFFSETFROM:-0600
TZOFFSETTO:-0700
TZNAME:MST
DTSTART:20251102T080000
END:STANDARD
BEGIN:DAYLIGHT
TZOFFSETFROM:-0700
TZOFFSETTO:-0600
TZNAME:MDT
DTSTART:20260308T090000
END:DAYLIGHT
BEGIN:STANDARD
TZOFFSETFROM:-0600
TZOFFSETTO:-0700
TZNAME:MST
DTSTART:20261101T080000
END:STANDARD
BEGIN:DAYLIGHT
TZOFFSETFROM:-0700
TZOFFSETTO:-0600
TZNAME:MDT
DTSTART:20270314T090000
END:DAYLIGHT
BEGIN:STANDARD
TZOFFSETFROM:-0600
TZOFFSETTO:-0700
TZNAME:MST
DTSTART:20271107T080000
END:STANDARD
END:VTIMEZONE
BEGIN:VEVENT
DTSTART;TZID=America/Denver:20260507T100000
DTEND;TZID=America/Denver:20260507T110000
DTSTAMP:20260419T223745
CREATED:20260320T174255Z
LAST-MODIFIED:20260320T174255Z
UID:8865-1778148000-1778151600@myzing.com
SUMMARY:Coffee and Conversations for Entrepreneurs
DESCRIPTION:Coffee & Conversations featuring featuring Denver Public Library – BizBoost. \nThis informal online gathering will help attendees gain a broader understanding of \nJoin us if you \n\nHave an idea for a business but are unsure where to start\nLooking for help in launching or growing an existing business\nWant to connect with like-minded entrepreneurs and build community
URL:https://myzing.com/event/coffee-and-conversations-for-entrepreneurs/
LOCATION:CO
END:VEVENT
END:VCALENDAR