BEGIN:VCALENDAR
VERSION:2.0
PRODID:-//Zing Credit Union - ECPv6.15.20//NONSGML v1.0//EN
CALSCALE:GREGORIAN
METHOD:PUBLISH
X-WR-CALNAME:Zing Credit Union
X-ORIGINAL-URL:https://myzing.com
X-WR-CALDESC:Events for Zing Credit Union
REFRESH-INTERVAL;VALUE=DURATION:PT1H
X-Robots-Tag:noindex
X-PUBLISHED-TTL:PT1H
BEGIN:VTIMEZONE
TZID:America/Denver
BEGIN:DAYLIGHT
TZOFFSETFROM:-0700
TZOFFSETTO:-0600
TZNAME:MDT
DTSTART:20250309T090000
END:DAYLIGHT
BEGIN:STANDARD
TZOFFSETFROM:-0600
TZOFFSETTO:-0700
TZNAME:MST
DTSTART:20251102T080000
END:STANDARD
BEGIN:DAYLIGHT
TZOFFSETFROM:-0700
TZOFFSETTO:-0600
TZNAME:MDT
DTSTART:20260308T090000
END:DAYLIGHT
BEGIN:STANDARD
TZOFFSETFROM:-0600
TZOFFSETTO:-0700
TZNAME:MST
DTSTART:20261101T080000
END:STANDARD
BEGIN:DAYLIGHT
TZOFFSETFROM:-0700
TZOFFSETTO:-0600
TZNAME:MDT
DTSTART:20270314T090000
END:DAYLIGHT
BEGIN:STANDARD
TZOFFSETFROM:-0600
TZOFFSETTO:-0700
TZNAME:MST
DTSTART:20271107T080000
END:STANDARD
END:VTIMEZONE
BEGIN:VEVENT
DTSTART;TZID=America/Denver:20260620T120000
DTEND;TZID=America/Denver:20260620T130000
DTSTAMP:20260420T001243
CREATED:20260320T165111Z
LAST-MODIFIED:20260320T165134Z
UID:8857-1781956800-1781960400@myzing.com
SUMMARY:Homebuyer Hacks
DESCRIPTION:Is purchasing a home on your list of financial goals? Let us help you become educated and empowered to navigate the home buying process with confidence. Wherever you are at in the process\, we will provide you with a roadmap of the steps you will take on your journey to becoming a homeowner. \nWhat You Will Learn\n\nSteps to take in preparation for purchasing a home\nMortgage basics such as financing options\, the loan application process\, and closing the loan\nKeys for successful homeownership beyond closing day\n\nWho Should Attend?\n\nFirst-time homebuyers\nAnyone who hasn’t purchased a home recently\nThose providing guidance to homebuyers\n\nRegister Here!
URL:https://myzing.com/event/homebuyer-hacks/
LOCATION:CO
END:VEVENT
END:VCALENDAR