BEGIN:VCALENDAR
VERSION:2.0
PRODID:-//Zing Credit Union - ECPv6.15.20//NONSGML v1.0//EN
CALSCALE:GREGORIAN
METHOD:PUBLISH
X-WR-CALNAME:Zing Credit Union
X-ORIGINAL-URL:https://myzing.com
X-WR-CALDESC:Events for Zing Credit Union
REFRESH-INTERVAL;VALUE=DURATION:PT1H
X-Robots-Tag:noindex
X-PUBLISHED-TTL:PT1H
BEGIN:VTIMEZONE
TZID:America/Denver
BEGIN:DAYLIGHT
TZOFFSETFROM:-0700
TZOFFSETTO:-0600
TZNAME:MDT
DTSTART:20240310T090000
END:DAYLIGHT
BEGIN:STANDARD
TZOFFSETFROM:-0600
TZOFFSETTO:-0700
TZNAME:MST
DTSTART:20241103T080000
END:STANDARD
BEGIN:DAYLIGHT
TZOFFSETFROM:-0700
TZOFFSETTO:-0600
TZNAME:MDT
DTSTART:20250309T090000
END:DAYLIGHT
BEGIN:STANDARD
TZOFFSETFROM:-0600
TZOFFSETTO:-0700
TZNAME:MST
DTSTART:20251102T080000
END:STANDARD
BEGIN:DAYLIGHT
TZOFFSETFROM:-0700
TZOFFSETTO:-0600
TZNAME:MDT
DTSTART:20260308T090000
END:DAYLIGHT
BEGIN:STANDARD
TZOFFSETFROM:-0600
TZOFFSETTO:-0700
TZNAME:MST
DTSTART:20261101T080000
END:STANDARD
END:VTIMEZONE
BEGIN:VEVENT
DTSTART;TZID=America/Denver:20250409T100000
DTEND;TZID=America/Denver:20250409T110000
DTSTAMP:20260422T111923
CREATED:20250331T211338Z
LAST-MODIFIED:20250331T211415Z
UID:6985-1744192800-1744196400@myzing.com
SUMMARY:The Nuts & Bolts of Starting a Business in the City & County of Denver
DESCRIPTION:Join the City & County of Denver for an open dialogue including Q&A as you prepare for business ownership! In this one-hour online workshop\, our business development team will walk you through the basic regulatory requirements in addition to reviewing local resources available to you. \nWe also offer FREE 1:1 business advisory sessions. Schedule yours at bit.ly/DEDOBizAdvisorySession or by calling 720-913-1521. \nRegister for the online workshop and let’s work together in making your dream a reality!
URL:https://myzing.com/event/the-nuts-bolts-of-starting-a-business-in-the-city-county-of-denver/
LOCATION:CO
END:VEVENT
BEGIN:VEVENT
DTSTART;TZID=America/Denver:20250417T180000
DTEND;TZID=America/Denver:20250417T190000
DTSTAMP:20260422T111923
CREATED:20250331T174912Z
LAST-MODIFIED:20250331T175333Z
UID:6980-1744912800-1744916400@myzing.com
SUMMARY:Homebuying 101: A Step-by-Step Guide to Purchasing a Home
DESCRIPTION:Thinking about buying a home? This class will walk you through every step of the process\, from getting financially prepared to finally holding the keys to your new home. \nYou’ll learn about working with realtors and lenders\, searching for the right property\, making an offer\, and what happens after your offer is accepted. We’ll also cover closing day essentials and share tips for long-term homeownership success. Whether you’re a first-time buyer or looking for a refresher\, this session will provide valuable insights to help you navigate the homebuying journey with confidence. \nRegister today!
URL:https://myzing.com/event/homebuying-101-a-step-by-step-guide-to-purchasing-a-home/
LOCATION:CO
END:VEVENT
BEGIN:VEVENT
DTSTART;TZID=America/Denver:20250430T120000
DTEND;TZID=America/Denver:20250430T130000
DTSTAMP:20260422T111923
CREATED:20250331T171240Z
LAST-MODIFIED:20250331T171240Z
UID:6976-1746014400-1746018000@myzing.com
SUMMARY:Build Your Monthly Spending Plan
DESCRIPTION:Are you one of many people who have created a spending plan in the past and had trouble sticking to it? If so\, you are not alone! In this webinar\, Greenpath will be guiding you through the process to create a plan for where you want and need your dollars to go each month. You’ll leave knowing what your monthly spending plan is\, and with tips to stick to
URL:https://myzing.com/event/build-your-monthly-spending-plan/
LOCATION:CO
END:VEVENT
BEGIN:VEVENT
DTSTART;TZID=America/Denver:20250430T180000
DTEND;TZID=America/Denver:20250430T200000
DTSTAMP:20260422T111923
CREATED:20250403T184931Z
LAST-MODIFIED:20250416T175930Z
UID:7030-1746036000-1746043200@myzing.com
SUMMARY:Personal and Commercial Real Estate Night
DESCRIPTION:Thinking about buying a home or investing in commercial real estate? Join us for an informative and engaging Personal & Commercial Real Estate Night at Zing Credit Union! \n📅 Date: Tuesday\, April 30⏰ Time: 6:00 PM📍 Location: Zing Credit Union – Acoma Branch \nMeet our expert Mortgage Loan Officers and our trusted partner Centennial Lending\, who will be available to answer your questions about home loans\, commercial real estate financing\, investment properties\, and more. \nWhat to Expect:✔️ A short\, insightful presentation on real estate financing options✔️ One-on-one time with lending experts to discuss your goals✔️ Networking with fellow Denver community members and professionals✔️ Light refreshments \nThis free event is open to the community. Perfect you’re a first-time homebuyer\, a seasoned investor\, or just curious about the market\, we’d love to see you there! \nRSVP today to save your spot!
URL:https://myzing.com/event/personal-and-commercial-real-estate-night/
LOCATION:CO
CATEGORIES:In-Person
END:VEVENT
END:VCALENDAR