BEGIN:VCALENDAR
VERSION:2.0
PRODID:-//Zing Credit Union - ECPv6.15.20//NONSGML v1.0//EN
CALSCALE:GREGORIAN
METHOD:PUBLISH
X-WR-CALNAME:Zing Credit Union
X-ORIGINAL-URL:https://myzing.com
X-WR-CALDESC:Events for Zing Credit Union
REFRESH-INTERVAL;VALUE=DURATION:PT1H
X-Robots-Tag:noindex
X-PUBLISHED-TTL:PT1H
BEGIN:VTIMEZONE
TZID:America/Denver
BEGIN:DAYLIGHT
TZOFFSETFROM:-0700
TZOFFSETTO:-0600
TZNAME:MDT
DTSTART:20240310T090000
END:DAYLIGHT
BEGIN:STANDARD
TZOFFSETFROM:-0600
TZOFFSETTO:-0700
TZNAME:MST
DTSTART:20241103T080000
END:STANDARD
BEGIN:DAYLIGHT
TZOFFSETFROM:-0700
TZOFFSETTO:-0600
TZNAME:MDT
DTSTART:20250309T090000
END:DAYLIGHT
BEGIN:STANDARD
TZOFFSETFROM:-0600
TZOFFSETTO:-0700
TZNAME:MST
DTSTART:20251102T080000
END:STANDARD
BEGIN:DAYLIGHT
TZOFFSETFROM:-0700
TZOFFSETTO:-0600
TZNAME:MDT
DTSTART:20260308T090000
END:DAYLIGHT
BEGIN:STANDARD
TZOFFSETFROM:-0600
TZOFFSETTO:-0700
TZNAME:MST
DTSTART:20261101T080000
END:STANDARD
END:VTIMEZONE
BEGIN:VEVENT
DTSTART;VALUE=DATE:20250702
DTEND;VALUE=DATE:20250703
DTSTAMP:20260422T061349
CREATED:20250508T165923Z
LAST-MODIFIED:20250508T165923Z
UID:7147-1751414400-1751500799@myzing.com
SUMMARY:Denver Business Investment Program
DESCRIPTION:Denver Economic Development & Opportunity (DEDO) is now accepting applications for a tax credit that reduces business personal property tax bills. Businesses that invested in new or expanded operations in 2024 and meet the program’s eligibility criteria may qualify for this credit through the Denver Business Investment Program. The credit covers the Denver General Fund portion of business personal property taxes for up to four years\, starting when the property is placed in service. Eligible property includes office equipment\, communication tools\, fixtures\, and machinery used in construction and manufacturing — replacement equipment is not eligible. \n\n\n\n\nBusinesses are encouraged to apply if they are: \n\nA new business (start-up) is eligible to apply.\nA business new to Denver that relocated from outside Denver or added a new facility in Denver is eligible to apply.\nAn existing business already located within the City and County of Denver\, through expansion\, that made significant capital investments and/or job creation is eligible to apply. Your business must have met at least ONE of these expansion requirements in 2024 to qualify:\n\nYour increased investment was at least $1 million in business expansion;\nYour increased investment was at least 100% of your prior business capital level;\nYou increased by at least 10 employees over your preceding 12‐month average; or\nYou increased by at least 10 percent employees over your preceding 12‐ month average.\n\n\n\nEligibility for the tax credit will be determined by compliance with Chapter 53\, Article XVI\, D.R.M.C. \n\nFor any questions or 1:1 application assistance\, please contact us at: \nInvestInDenver@denvergov.org \n720-913-1721
URL:https://myzing.com/event/denver-business-investment-program/
LOCATION:CO
END:VEVENT
BEGIN:VEVENT
DTSTART;TZID=America/Denver:20250708T173000
DTEND;TZID=America/Denver:20250708T183000
DTSTAMP:20260422T061349
CREATED:20250516T204842Z
LAST-MODIFIED:20250516T205202Z
UID:7182-1751995800-1751999400@myzing.com
SUMMARY:Home Buying Workshop
DESCRIPTION:Thinking about buying a home but not sure where to start? Join Zing for a free\, informative session designed to guide you through the home buying process. Whether you’re a first-time buyer or just need a refresher\, our mortgage loan officers will help prepare your finances to close on your dream home. You’ll gain valuable insight into local market conditions\, loan options\, and how to work with real estate professionals. \nWhat You’ll Learn: \n\nThe complete home buying process—from planning to closing\nWhat lenders look for and how to prepare financially\nDifferent types of home loans and how to choose the right one\nHow credit\, savings\, and debt affect your buying power\nTips for working with real estate agents and other professionals\nCommon home buying myths and how to avoid costly mistakes\nWhat to expect during inspections\, appraisals\, and final paperwork\n\nRegister here!
URL:https://myzing.com/event/home-buying-workshop/
LOCATION:Zing Credit Union – Andrews\, 15460 E Andrews Dr\, Denver\, 80239
END:VEVENT
BEGIN:VEVENT
DTSTART;TZID=America/Denver:20250716T120000
DTEND;TZID=America/Denver:20250716T130000
DTSTAMP:20260422T061349
CREATED:20250602T203243Z
LAST-MODIFIED:20250602T203258Z
UID:7203-1752667200-1752670800@myzing.com
SUMMARY:Tips for Successful Back-to-School Planning
DESCRIPTION:The start of a new school year can be an exciting time. Whether it’s the first day of elementary school or the transition to college\, there is much to prepare for! However\, back-to-school excitement brings back-to-school costs. Join us for tips to save on back-to-school costs and manage unexpected expenses. \nWhat You Will Learn\n\nHow to financially prepare for the upcoming school year\nTips for saving for any unexpected education expenses\nIdeas for reducing college costs\n\nWho Should Attend?\n\nAnyone with children attending school (all levels)\nAnyone interested in saving for school expenses\nAnyone attending school and interested in planning for the next year
URL:https://myzing.com/event/tips-for-successful-back-to-school-planning/
LOCATION:CO
END:VEVENT
BEGIN:VEVENT
DTSTART;TZID=America/Denver:20250725T100000
DTEND;TZID=America/Denver:20250725T140000
DTSTAMP:20260422T061349
CREATED:20250602T204710Z
LAST-MODIFIED:20250707T214730Z
UID:7206-1753437600-1753452000@myzing.com
SUMMARY:Free Book Giveaway with Book Gives Denver
DESCRIPTION:We’re teaming up with BookGive in Denver for a free book giveaway event right here at Zing! Stop by to browse and take home books for all ages\, completely free! Whether you’re stocking up on summer reads for the kids\, building your home library\, or just love stories\, there’s something for everyone. \nYou’re also welcome to donate new or gently used books you no longer need. No registration or membership is required\, just come by and enjoy! \nThis event is in partnership with BookGive\, a Denver-based nonprofit that believes everyone should have access to books. Donations to BookGive are welcome but completely optional. We hope to see you there!
URL:https://myzing.com/event/free-book-giveaway-with-book-gives-denver/
LOCATION:Zing Credit Union\, 1075 Acoma St.\, Denver\, CO\, 80204\, United States
CATEGORIES:In-Person
END:VEVENT
END:VCALENDAR