BEGIN:VCALENDAR
VERSION:2.0
PRODID:-//Zing Credit Union - ECPv6.15.20//NONSGML v1.0//EN
CALSCALE:GREGORIAN
METHOD:PUBLISH
X-ORIGINAL-URL:https://myzing.com
X-WR-CALDESC:Events for Zing Credit Union
REFRESH-INTERVAL;VALUE=DURATION:PT1H
X-Robots-Tag:noindex
X-PUBLISHED-TTL:PT1H
BEGIN:VTIMEZONE
TZID:America/Denver
BEGIN:DAYLIGHT
TZOFFSETFROM:-0700
TZOFFSETTO:-0600
TZNAME:MDT
DTSTART:20240310T090000
END:DAYLIGHT
BEGIN:STANDARD
TZOFFSETFROM:-0600
TZOFFSETTO:-0700
TZNAME:MST
DTSTART:20241103T080000
END:STANDARD
BEGIN:DAYLIGHT
TZOFFSETFROM:-0700
TZOFFSETTO:-0600
TZNAME:MDT
DTSTART:20250309T090000
END:DAYLIGHT
BEGIN:STANDARD
TZOFFSETFROM:-0600
TZOFFSETTO:-0700
TZNAME:MST
DTSTART:20251102T080000
END:STANDARD
BEGIN:DAYLIGHT
TZOFFSETFROM:-0700
TZOFFSETTO:-0600
TZNAME:MDT
DTSTART:20260308T090000
END:DAYLIGHT
BEGIN:STANDARD
TZOFFSETFROM:-0600
TZOFFSETTO:-0700
TZNAME:MST
DTSTART:20261101T080000
END:STANDARD
END:VTIMEZONE
BEGIN:VEVENT
DTSTART;TZID=America/Denver:20251001T130000
DTEND;TZID=America/Denver:20251001T140000
DTSTAMP:20260420T052446
CREATED:20250929T162203Z
LAST-MODIFIED:20250929T162203Z
UID:7704-1759323600-1759327200@myzing.com
SUMMARY:Consejos Financieros
DESCRIPTION:¿Tienes preguntas sobre cómo manejar tu presupuesto\, mejorar tu crédito o eliminar tus deudas? ¡Este seminario web es para ti! \nAcompáñanos en Querido GreenPath\, una sesión interactiva al estilo “Querida Abby”\, donde responderemos preguntas reales de personas como tú\, tales como: \n\n\n“Necesito ayuda con mi presupuesto en Nueva York” \n\n\n“¿Cómo puedo mejorar mi puntaje de crédito?” \n\n\n“Estoy abrumado por mis deudas—¿por dónde empiezo?” \n\n\nLos expertos financieros de GreenPath estarán en vivo para ofrecerte orientación práctica\, empática y sin juicios. Ya sea que estés comenzando tu camino financiero o buscando soluciones específicas\, este evento te brindará herramientas útiles para tomar el control de tu bienestar financiero.
URL:https://myzing.com/event/consejos-financieros/
LOCATION:CO
END:VEVENT
BEGIN:VEVENT
DTSTART;TZID=America/Denver:20251015T120000
DTEND;TZID=America/Denver:20251015T130000
DTSTAMP:20260420T052446
CREATED:20250929T162319Z
LAST-MODIFIED:20250929T162330Z
UID:7706-1760529600-1760533200@myzing.com
SUMMARY:Spread Joy & Save Money: Make It a Happy and Financially Healthy Season
DESCRIPTION:The Holidays are often known as “the most wonderful time of the year” and are also the most expensive! Join GreenPath for a helpful webinar on preparing you for the upcoming Holiday season by reducing your stress and increasing your Holiday savings. This webinar will provide you with helpful financial tools and tips that can help reduce your holiday spending\, how to plan your holiday budget and stick to it\, and strategies for managing the holiday stress. \nWhat You Will Learn\n\nHow to prepare a holiday budget without stressing your wallet\nHow to reduce spending on gifts and other holiday specific expenses\nIdeas to create lasting memories at little to no cost\n\nWho Should Attend?\n\nAnyone who are unsure how much holiday spending their budget will allow\nAnyone who want to maximize the value of gifts given\nAnyone who is looking to reduce their holiday stress
URL:https://myzing.com/event/spread-joy-save-money-make-it-a-happy-and-financially-healthy-season/
LOCATION:CO
END:VEVENT
BEGIN:VEVENT
DTSTART;TZID=America/Denver:20251021T110000
DTEND;TZID=America/Denver:20251021T123000
DTSTAMP:20260420T052446
CREATED:20251017T155955Z
LAST-MODIFIED:20251017T160115Z
UID:7963-1761044400-1761049800@myzing.com
SUMMARY:Recognize and Defend Yourself Against Fraud and Scams
DESCRIPTION:Join us for an important in-person session on how to spot and prevent scams\, especially those targeting older adults. Lynn Lowe\, Senior Resource Navigator with the City Attorney’s Office\, will share real-world examples and practical tips to help you and your loved ones stay protected. Whether you’re a caregiver\, family member\, or just want to be more scam-savvy\, this session is open to all ages and packed with valuable information. Don’t miss it!
URL:https://myzing.com/event/recognize-and-defend-yourself-against-fraud-and-scams/
LOCATION:Zing Credit Union\, 1075 Acoma St.\, Denver\, CO\, 80204\, United States
CATEGORIES:In-Person
END:VEVENT
BEGIN:VEVENT
DTSTART;TZID=America/Denver:20251028T173000
DTEND;TZID=America/Denver:20251028T183000
DTSTAMP:20260420T052446
CREATED:20250702T191133Z
LAST-MODIFIED:20251024T162915Z
UID:7275-1761672600-1761676200@myzing.com
SUMMARY:Wills and Trusts
DESCRIPTION:Join us for an engaging and informative estate‑planning class! In this session\, you’ll learn: \n\nWhether you need a will\, a trust\, or both\nHow to set up key documents\, including medical powers of attorney\nTips for protecting your assets and ensuring your wishes are followed\n\nPerfect for individuals and families at any stage\, this class demystifies estate planning and gives you the confidence to take control of your legacy. \nWhat You’ll Walk Away With: \n\nA clear understanding of wills vs. trusts\nPractical steps to start or update your estate plan\nResources to help you talk through tricky decisions
URL:https://myzing.com/event/wills-and-trusts-oct-2025/
LOCATION:Zing Credit Union – Andrews\, 15460 E Andrews Dr\, Denver\, 80239
CATEGORIES:In-Person
END:VEVENT
BEGIN:VEVENT
DTSTART;TZID=America/Denver:20251030T173000
DTEND;TZID=America/Denver:20251030T193000
DTSTAMP:20260420T052446
CREATED:20250929T192907Z
LAST-MODIFIED:20250929T193334Z
UID:7711-1761845400-1761852600@myzing.com
SUMMARY:Trunk or Treat
DESCRIPTION:Get ready for a spooktacular evening at our first-ever Trunk or Treat on October 30! Bring the whole family for Halloween and fall-themed games\, tasty tacos\, and lots of candy. Kids can enjoy fun activities\, and everyone can stop by the bookmobile to pick up free books. Plus\, check out our amazing community partners who will be there to share treats and surprises. This free event is open to members and neighbors\, don’t miss it! \n¡Prepárate para una noche espeluznante en nuestro primer Trunk or Treat el 30 de octubre! Trae a toda la familia para disfrutar de juegos y actividades de Halloween y de otoño\, deliciosos tacos y muchos dulces. Los niños podrán divertirse con actividades especiales\, y todos podrán visitar el bibliobús para llevarse libros gratis. Además\, conocerás a nuestros increíbles socios comunitarios que estarán compartiendo sorpresas y golosinas. Este evento gratuito está abierto a miembros y vecinos\, no te lo pierdas!
URL:https://myzing.com/event/trunk-or-treat/
LOCATION:Zing Credit Union – Alameda\, 3299 W. Alameda Ave\, Denver\, CO\, 80219\, United States
CATEGORIES:In-Person
END:VEVENT
END:VCALENDAR