BEGIN:VCALENDAR
VERSION:2.0
PRODID:-//Zing Credit Union - ECPv6.15.20//NONSGML v1.0//EN
CALSCALE:GREGORIAN
METHOD:PUBLISH
X-WR-CALNAME:Zing Credit Union
X-ORIGINAL-URL:https://myzing.com
X-WR-CALDESC:Events for Zing Credit Union
REFRESH-INTERVAL;VALUE=DURATION:PT1H
X-Robots-Tag:noindex
X-PUBLISHED-TTL:PT1H
BEGIN:VTIMEZONE
TZID:America/Denver
BEGIN:DAYLIGHT
TZOFFSETFROM:-0700
TZOFFSETTO:-0600
TZNAME:MDT
DTSTART:20250309T090000
END:DAYLIGHT
BEGIN:STANDARD
TZOFFSETFROM:-0600
TZOFFSETTO:-0700
TZNAME:MST
DTSTART:20251102T080000
END:STANDARD
BEGIN:DAYLIGHT
TZOFFSETFROM:-0700
TZOFFSETTO:-0600
TZNAME:MDT
DTSTART:20260308T090000
END:DAYLIGHT
BEGIN:STANDARD
TZOFFSETFROM:-0600
TZOFFSETTO:-0700
TZNAME:MST
DTSTART:20261101T080000
END:STANDARD
BEGIN:DAYLIGHT
TZOFFSETFROM:-0700
TZOFFSETTO:-0600
TZNAME:MDT
DTSTART:20270314T090000
END:DAYLIGHT
BEGIN:STANDARD
TZOFFSETFROM:-0600
TZOFFSETTO:-0700
TZNAME:MST
DTSTART:20271107T080000
END:STANDARD
END:VTIMEZONE
BEGIN:VEVENT
DTSTART;TZID=America/Denver:20260114T180000
DTEND;TZID=America/Denver:20260114T190000
DTSTAMP:20260420T003622
CREATED:20260108T171701Z
LAST-MODIFIED:20260108T180508Z
UID:8363-1768413600-1768417200@myzing.com
SUMMARY:Small Business Finance Series Part 1
DESCRIPTION:Looking to boost your small biz finances and understanding of small business taxes? Our online series is packed with tips\, tricks\, and real-talk to help you grow. Whether you’re just starting out or want to scale up\, this event is perfect for you. Connect\, learn\, and get inspired—all from the comfort of your home! \nThe Center for Community Wealth (CCW) is hosting a financial seminar series to help local Denver businesses level up their finances. and provide foundational small business finance training. \nSession One: Business Tax Compliance Demystified – Learn to confidently navigate tax requirements and protect your hard-earned profits. \nFormat: Virtual Workshop | Date: January 14\, 2026 | Instructor: Teresa Plaugher\, CPA \nSession Times: \n\nEnglish: 6:00 PM – 7:00 PM\nSpanish: 7:30 PM – 8:30 PM\n\n***Space is limited. Register today.***
URL:https://myzing.com/event/small-business-finance-series/
LOCATION:CO
ATTACH;FMTTYPE=image/jpeg:https://myzing.com/wp-content/uploads/2026/01/1767739795399.jpeg
END:VEVENT
BEGIN:VEVENT
DTSTART;TZID=America/Denver:20260114T193000
DTEND;TZID=America/Denver:20260114T203000
DTSTAMP:20260420T003622
CREATED:20260108T171819Z
LAST-MODIFIED:20260108T180405Z
UID:8366-1768419000-1768422600@myzing.com
SUMMARY:Serie Financiera para Pequeños Negocios Part 1
DESCRIPTION:¡Únase a nuestra serie sobre finanzas para pequeñas empresas!\n¿Desea mejorar las finanzas de su pequeña empresa y entender mejor los impuestos que le corresponden? Nuestra serie de talleres en línea estará cargada de consejos\, sugerencias y ejemplos reales para ayudarle a crecer. Tanto si acaba de iniciar su negocio como si desea expandirlo\, este evento es perfecto para usted. Conéctese\, aprenda e inspírese\, ¡todo desde la comodidad de su hogar! \nEl Center for Community Wealth (CCW) está organizando una serie de talleres financieros para ayudar a las empresas locales de Denver a mejorar sus finanzas y proporcionar formación básica sobre finanzas para pequeñas empresas. \nSesión uno: Cómo cumplir con los impuestos empresariales sin complicaciones: aprenda a navegar con confianza por los requisitos fiscales y a proteger sus ganancias obtenidas con tanto esfuerzo. \nFormato: Taller Virtual | Fecha: 14 de enero de 2026 | Instructora: Teresa Plaugher\, CPA \nHorarios de Sesión: \n\nInglés: 6:00 PM – 7:00 PM\nEspañol: 7:30 PM – 8:30 PM\n\nLos enlaces de Zoom se compartirán con los participantes mediante una invitación de calendario.\n***Especio limitado. Inscríbase hoy mismo.***\n 
URL:https://myzing.com/event/serie-financiera-para-pequenos-negocios/
LOCATION:CO
ATTACH;FMTTYPE=image/jpeg:https://myzing.com/wp-content/uploads/2026/01/https___cdn.evbuc_.com_images_1173166302_2922851821581_1_original.jpeg
END:VEVENT
BEGIN:VEVENT
DTSTART;TZID=America/Denver:20260121T130000
DTEND;TZID=America/Denver:20260121T140000
DTSTAMP:20260420T003622
CREATED:20251226T205629Z
LAST-MODIFIED:20260108T182111Z
UID:8305-1769000400-1769004000@myzing.com
SUMMARY:Setting and Reaching Financial Goals in 2026
DESCRIPTION:Setting financial goals is one thing\, reaching them is another – especially when “life happens!” Join us for a workshop to learn how to be sure the financial goals you are setting are realistic and achievable\, how to be prepared for what may attempt to derail your progress\, and strategies to keep you moving forward. \nAn estimated 80% of New Years Resolutions are out the window by mid-February every year\, according to US News and World Report. Many of us start the year with great intentions: we really believe this will be “our year” – and then life happens\, and maybe this isn’t “our year” after all (yet again).  We’ll talk about how to be honest with yourself to set realistic goals\, how to understand and be prepared for what may derail your progress\, and strategies to keep you moving towards your goals all year long so that this can finally be “your year.” \nRegister Here
URL:https://myzing.com/event/setting-and-reaching-financial-goals-in-2026/
LOCATION:CO
ATTACH;FMTTYPE=image/png:https://myzing.com/wp-content/uploads/2025/12/WebinarGraphic-FinancialGoals1.21.26.png
END:VEVENT
BEGIN:VEVENT
DTSTART;TZID=America/Denver:20260121T180000
DTEND;TZID=America/Denver:20260121T190000
DTSTAMP:20260420T003622
CREATED:20260108T172003Z
LAST-MODIFIED:20260108T180100Z
UID:8369-1769018400-1769022000@myzing.com
SUMMARY:Small Business Finance Series Part 2
DESCRIPTION:Looking to boost your small biz finances and understanding of small business taxes? Our online series is packed with tips\, tricks\, and real-talk to help you grow. Whether you’re just starting out or want to scale up\, this event is perfect for you. Connect\, learn\, and get inspired—all from the comfort of your home! \nThe Center for Community Wealth (CCW) is hosting a financial seminar series to help local Denver businesses level up their finances. and provide foundational small business finance training. \nSession Two: Accounting Essentials Unleashed – Transform financial complexity into clear\, actionable business strategies. \nFormat: Virtual Workshop | Date: January 21\, 2026 | Instructor: Pamela Benson \nSession Times: \n\nEnglish: 6:00 PM – 7:00 PM\nSpanish: 7:30 PM – 8:30 PM\n\nZoom Links will be shared with participants via a calendar invite.\n***Space is limited. Register today.***\nQuestions? Contact Kimberly Bonner at kimberly@communitywealth.org
URL:https://myzing.com/event/small-business-finance-series-part-2/
LOCATION:CO
ATTACH;FMTTYPE=image/jpeg:https://myzing.com/wp-content/uploads/2026/01/1767739795399.jpeg
END:VEVENT
BEGIN:VEVENT
DTSTART;TZID=America/Denver:20260121T190000
DTEND;TZID=America/Denver:20260121T200000
DTSTAMP:20260420T003622
CREATED:20260108T172426Z
LAST-MODIFIED:20260108T175716Z
UID:8371-1769022000-1769025600@myzing.com
SUMMARY:Serie Financiera para Pequeños Negocios Parte 2
DESCRIPTION:¡Únase a nuestra serie sobre finanzas para pequeñas empresas!\n¿Desea mejorar las finanzas de su pequeña empresa y entender mejor los impuestos que le corresponden? Nuestra serie de talleres en línea estará cargada de consejos\, sugerencias y ejemplos reales para ayudarle a crecer. Tanto si acaba de iniciar su negocio como si desea expandirlo\, este evento es perfecto para usted. Conéctese\, aprenda e inspírese\, ¡todo desde la comodidad de su hogar! \nEl Center for Community Wealth (CCW) está organizando una serie de talleres financieros para ayudar a las empresas locales de Denver a mejorar sus finanzas y proporcionar formación básica sobre finanzas para pequeñas empresas. \nSesión uno: Cómo cumplir con los impuestos empresariales sin complicaciones: aprenda a navegar con confianza por los requisitos fiscales y a proteger sus ganancias obtenidas con tanto esfuerzo. \nSesión dos: Fundamentos de contabilidad. Desbloquee la complejidad financiera y conviértala en estrategias empresariales claras y viables. \nFormato: Taller Virtual | Fecha: 21 de enero de 2026 | Instructora: Pamela Benson \nHorarios de Sesión: \n\nInglés: 6:00 PM – 7:00 PM\nEspañol: 7:00 PM – 8:00 PM\n\nLos enlaces de Zoom se compartirán con los participantes mediante una invitación de calendario.\n***Especio limitado. Inscríbase hoy mismo.***\n¿Preguntas? Comuníquese con Marcela Gaete a marcela@communitywealth.org
URL:https://myzing.com/event/serie-financiera-para-pequenos-negocios-parte-2/
LOCATION:CO
ATTACH;FMTTYPE=image/jpeg:https://myzing.com/wp-content/uploads/2026/01/https___cdn.evbuc_.com_images_1173166302_2922851821581_1_original.jpeg
END:VEVENT
BEGIN:VEVENT
DTSTART;TZID=America/Denver:20260126T100000
DTEND;TZID=America/Denver:20260126T120000
DTSTAMP:20260420T003622
CREATED:20260108T181428Z
LAST-MODIFIED:20260108T181428Z
UID:8395-1769421600-1769428800@myzing.com
SUMMARY:Access to Capital and Credit Building
DESCRIPTION:Join Home | CEDS FINANCE for a Business Finance Education Seminar designed to help business owners better understand business banking\, lending options\, and credit readiness. This session brings together perspectives from a bank\, a CDFI\, and a credit-focused professional. A light breakfast will be provided. \nDate: January 26\, 2026 \nTime: 10:00 AM – 12:00 PM \nLocation: CEDS Finance\, 10660 E Colfax Ave\, Suite B\, Aurora CO 80010 \nLanguage: English (with the possibility of Spanish translation) \nFor questions or more information\, feel free to reach out to any of: \n\n\nYolanda Huillca at yhuillca@cedsfinance.org.\nAimee Fontes at Aimee.Fontes@efirstbank.com\nArlene Delgado at Arlene.Delgado@bankencore.com\n\nRegister Here!
URL:https://myzing.com/event/access-to-capital-and-credit-building/
LOCATION:CEDS Finance\, 10660 E Colfax Ave\, Suite B\, Aurora CO 80010\, 10660 E Colfax Ave\, Suite B\, Aurora CO\, 80010
ATTACH;FMTTYPE=image/jpeg:https://myzing.com/wp-content/uploads/2026/01/1767805242451.jpeg
END:VEVENT
END:VCALENDAR