BEGIN:VCALENDAR
VERSION:2.0
PRODID:-//Zing Credit Union - ECPv6.15.20//NONSGML v1.0//EN
CALSCALE:GREGORIAN
METHOD:PUBLISH
X-WR-CALNAME:Zing Credit Union
X-ORIGINAL-URL:https://myzing.com
X-WR-CALDESC:Events for Zing Credit Union
REFRESH-INTERVAL;VALUE=DURATION:PT1H
X-Robots-Tag:noindex
X-PUBLISHED-TTL:PT1H
BEGIN:VTIMEZONE
TZID:America/Denver
BEGIN:DAYLIGHT
TZOFFSETFROM:-0700
TZOFFSETTO:-0600
TZNAME:MDT
DTSTART:20250309T090000
END:DAYLIGHT
BEGIN:STANDARD
TZOFFSETFROM:-0600
TZOFFSETTO:-0700
TZNAME:MST
DTSTART:20251102T080000
END:STANDARD
BEGIN:DAYLIGHT
TZOFFSETFROM:-0700
TZOFFSETTO:-0600
TZNAME:MDT
DTSTART:20260308T090000
END:DAYLIGHT
BEGIN:STANDARD
TZOFFSETFROM:-0600
TZOFFSETTO:-0700
TZNAME:MST
DTSTART:20261101T080000
END:STANDARD
BEGIN:DAYLIGHT
TZOFFSETFROM:-0700
TZOFFSETTO:-0600
TZNAME:MDT
DTSTART:20270314T090000
END:DAYLIGHT
BEGIN:STANDARD
TZOFFSETFROM:-0600
TZOFFSETTO:-0700
TZNAME:MST
DTSTART:20271107T080000
END:STANDARD
END:VTIMEZONE
BEGIN:VEVENT
DTSTART;TZID=America/Denver:20260224T130000
DTEND;TZID=America/Denver:20260224T140000
DTSTAMP:20260421T145715
CREATED:20260105T193848Z
LAST-MODIFIED:20260127T181459Z
UID:8353-1771938000-1771941600@myzing.com
SUMMARY:The Nuts & Bolts of Starting a Business in the City & County of Denver
DESCRIPTION:Join Zing Credit Union and City & County of Denver for an open dialogue including Q&A as you prepare for business ownership! In this one-hour in-person workshop\, our business development team will walk you through the basic regulatory requirements in addition to reviewing local resources available to you. \nRegister for the in-person workshop and let’s work together in making your dream a reality! \nLocationZing Credit Union1075 Acoma St.Denver\, CO 80204 \nPlease allow extra time for arrival\, as parking in our on-site lot is limited. Street parking is also available nearby. Light refreshments and snacks will be provided. \nDirectionsEnter through the main entrance. To the left\, you’ll see our Art Walkway—continue through the hall to reach the Community Room. Seating is open.
URL:https://myzing.com/event/the-nuts-bolts-of-starting-a-business-in-the-city-county-of-denver-3/
LOCATION:Zing Credit Union\, 1075 Acoma St.\, Denver\, CO\, 80204\, United States
ATTACH;FMTTYPE=image/png:https://myzing.com/wp-content/uploads/2026/01/nuts-bolts-of-starting-a-business-in-the-city-county-of-denver-.png
END:VEVENT
END:VCALENDAR